BEGIN:VCALENDAR
VERSION:2.0
PRODID:-//Manchester Walks - ECPv6.15.11//NONSGML v1.0//EN
CALSCALE:GREGORIAN
METHOD:PUBLISH
X-WR-CALNAME:Manchester Walks
X-ORIGINAL-URL:https://www.newmanchesterwalks.com
X-WR-CALDESC:Events for Manchester Walks
REFRESH-INTERVAL;VALUE=DURATION:PT1H
X-Robots-Tag:noindex
X-PUBLISHED-TTL:PT1H
BEGIN:VTIMEZONE
TZID:UTC
BEGIN:STANDARD
TZOFFSETFROM:+0000
TZOFFSETTO:+0000
TZNAME:UTC
DTSTART:20240101T000000
END:STANDARD
END:VTIMEZONE
BEGIN:VEVENT
DTSTART;TZID=UTC:20250621T143000
DTEND;TZID=UTC:20250621T160000
DTSTAMP:20260421T203340
CREATED:20250618T093425Z
LAST-MODIFIED:20250618T093425Z
UID:26213-1750516200-1750521600@www.newmanchesterwalks.com
SUMMARY:L. S\, Lowry: Expert Tour with Pictures
DESCRIPTION:Next Walking tour: Saturday 21 June 2025\nMeet: Outside the Mercure Hotel\, Portland Street.\nBooking: Please press here to book with Eventbrite.  \nSpurned\, snubbed and sniggered at\, Laurence Stephen Lowry became Britain’s most famous and best-loved 20th century painter\, whose works now sell for millions. \nHe called himself a “simple man”\, but he was the strangest of fellows. He never left the British Isles\, enjoyed no sexual relations\, and made his will over to a much younger woman\, whom he befriended simply because she shared his surname. \nLowry’s day job was not as an artist but a rent collector in the slum areas of the city\, and as we explore the man behind the paintings we take you through the haunts he visited and depicted.
URL:https://www.newmanchesterwalks.com/event/l-s-lowry-expert-tour-with-pictures/
LOCATION:Mercure Hotel (outside)\, Portland Street\, Manchester\, M1 4PH\, United Kingdom
END:VEVENT
END:VCALENDAR