BEGIN:VCALENDAR
VERSION:2.0
PRODID:-//Manchester Walks - ECPv6.15.11//NONSGML v1.0//EN
CALSCALE:GREGORIAN
METHOD:PUBLISH
X-WR-CALNAME:Manchester Walks
X-ORIGINAL-URL:https://www.newmanchesterwalks.com
X-WR-CALDESC:Events for Manchester Walks
REFRESH-INTERVAL;VALUE=DURATION:PT1H
X-Robots-Tag:noindex
X-PUBLISHED-TTL:PT1H
BEGIN:VTIMEZONE
TZID:UTC
BEGIN:STANDARD
TZOFFSETFROM:+0000
TZOFFSETTO:+0000
TZNAME:UTC
DTSTART:20240101T000000
END:STANDARD
END:VTIMEZONE
BEGIN:VEVENT
DTSTART;TZID=UTC:20250709T110000
DTEND;TZID=UTC:20250709T130000
DTSTAMP:20260421T103118
CREATED:20250708T224927Z
LAST-MODIFIED:20250708T224927Z
UID:26295-1752058800-1752066000@www.newmanchesterwalks.com
SUMMARY:Manchester Music (private tour)
DESCRIPTION:
URL:https://www.newmanchesterwalks.com/event/manchester-music-private-tour/
LOCATION:HOME\, 2 Tony Wilson Place\, Manchester\, Select a State:\, M15 4GU\, United Kingdom
END:VEVENT
END:VCALENDAR