BEGIN:VCALENDAR
VERSION:2.0
PRODID:-//Manchester Walks - ECPv6.15.11//NONSGML v1.0//EN
CALSCALE:GREGORIAN
METHOD:PUBLISH
X-WR-CALNAME:Manchester Walks
X-ORIGINAL-URL:https://www.newmanchesterwalks.com
X-WR-CALDESC:Events for Manchester Walks
REFRESH-INTERVAL;VALUE=DURATION:PT1H
X-Robots-Tag:noindex
X-PUBLISHED-TTL:PT1H
BEGIN:VTIMEZONE
TZID:UTC
BEGIN:STANDARD
TZOFFSETFROM:+0000
TZOFFSETTO:+0000
TZNAME:UTC
DTSTART:20240101T000000
END:STANDARD
END:VTIMEZONE
BEGIN:VEVENT
DTSTART;TZID=UTC:20250713T120000
DTEND;TZID=UTC:20250713T140000
DTSTAMP:20260421T133806
CREATED:20250618T133743Z
LAST-MODIFIED:20250618T133743Z
UID:26222-1752408000-1752415200@www.newmanchesterwalks.com
SUMMARY:MIF Tours - Secret Manchester
DESCRIPTION:Next tour: Sunday the 13th of June 2025\, 12 noon.\nMeet: Outside the Mercure Hotel\, Portland Street.\nBooking: Please press here to book with Evenbrite. \n*** \nYou think you know Manchester? Well\, no one knows it like Ed Glinert\, who has spent 45 years unturning every last (Gothic) stone in the city\, uncovering layer upon layer of other histories\, lesser-known stories\, the secret side of the city to create the ultimate “believe it or not”. \n* Did you know there is an atomic bunker under Piccadilly Gardens and Chinatown with a branch leading to the Town Hall?\n* That L. S. Lowry was a secret sadist.\n* Did you know there were race riots in the city during the Second World War thanks to the presence of an invading army.\n* Did you know that the pillar box on Corporation Street is NOT the one that survived the 1996 IRA bomb?\n* Did you know the council voted to demolish the Town Hall?\n* Do you know how many secret service agents are in the Midland Hotel right now planting bugs? \nIt’s the Manchester that nobody knows…apart from Glinert and you after you’ve been on this tour! \n  \n \n \nHere’s something else you didn’t know (we hope). During the Second World War the Government requisitioned a well-known building in Manchester city centre to be a secret regional HQ\, to take over the running of not just Manchester but the entire North-West should Nazi invasion look imminent. \nIt was kitted out with the most sophisticated communications equipment\, food and beds. Winston Churchill\, prime minister\, even kipped there one night to show how safe it was. But of course it was never needed. Where is it? Ah… \nThis is a trip into the deepest historical secrets of Manchester. Sites\, streets\, spaces that you’ve walked past a thousand times will never look the same again. The tour is conducted by Ed Glinert\, who knows Manchester better than anyone and knows the things that nobody else (apart from the people who told him) knows.
URL:https://www.newmanchesterwalks.com/event/mif-tours-secret-manchester/
LOCATION:Mercure Hotel (outside)\, Portland Street\, Manchester\, M1 4PH\, United Kingdom
END:VEVENT
END:VCALENDAR