BEGIN:VCALENDAR
VERSION:2.0
PRODID:-//Manchester Walks - ECPv6.15.11//NONSGML v1.0//EN
CALSCALE:GREGORIAN
METHOD:PUBLISH
X-ORIGINAL-URL:https://www.newmanchesterwalks.com
X-WR-CALDESC:Events for Manchester Walks
REFRESH-INTERVAL;VALUE=DURATION:PT1H
X-Robots-Tag:noindex
X-PUBLISHED-TTL:PT1H
BEGIN:VTIMEZONE
TZID:UTC
BEGIN:STANDARD
TZOFFSETFROM:+0000
TZOFFSETTO:+0000
TZNAME:UTC
DTSTART:20240101T000000
END:STANDARD
END:VTIMEZONE
BEGIN:VEVENT
DTSTART;TZID=UTC:20250810T120000
DTEND;TZID=UTC:20250810T140000
DTSTAMP:20260421T134303
CREATED:20250706T115848Z
LAST-MODIFIED:20250706T120230Z
UID:26270-1754827200-1754834400@www.newmanchesterwalks.com
SUMMARY:Tony Wilson's Manchester
DESCRIPTION:Tony Wilson’s Manchester: Sunday 10 August 2025.\nAnniversary of the day he died in 2007.\n\nMeet: outside HOME\, 12 noon.\n\nBooking: Please press here to book with Eventbrite. \n*** \nTony Wilson never wrote a song\, sang one or played an instrument. Yet he created the modern Manchester music scene. He made things happen; he cajoled people into doing important things. He harried\, encouraged\, pushed\, promoted. It might be fair to say without him Manchester’s music history might have stopped with Sad Café. \nOn the day Wilson died\, 10 August (2007)\, we honour one of the most popular figures in recent Manchester history: a vainglorious\, proud\, arrogant\, infuriating but genius impresario. \nWe will visit the Hacienda\, which he swore “must be built”; Rafter’s (now Tesco’s – fab!)\, where he met Ian Curtis (imagine a universe without Unknown Pleasures and Closer…no!); the Hidden Gem where he made his last confession to an astonished priest; and the site of Granada Television\, now revamped into the Factory arts centre\, named after his record label\, where he preened and pontificated. \nThe Hacienda went bust. Factory Records went bust. Granada TV has been abolished\, but as Wilson was fond of saying “we made history\, not money.” Factory Records’ designer Peter Saville explained: “Tony created a new understanding of Manchester; the resonance of Factory goes way beyond the music. Young people often dream of going to another place to achieve their goals. Tony provided the catalyst and context for Mancunians to do that without having to go anywhere.”
URL:https://www.newmanchesterwalks.com/event/tony-wilsons-manchester/
LOCATION:HOME\, 2 Tony Wilson Place\, Manchester\, Select a State:\, M15 4GU\, United Kingdom
ATTACH;FMTTYPE=image/jpeg:https://www.newmanchesterwalks.com/wp-content/uploads/2025/07/Tony-Willson-1.jpg
END:VEVENT
END:VCALENDAR