BEGIN:VCALENDAR
VERSION:2.0
PRODID:-//Manchester Walks - ECPv6.15.11//NONSGML v1.0//EN
CALSCALE:GREGORIAN
METHOD:PUBLISH
X-ORIGINAL-URL:https://www.newmanchesterwalks.com
X-WR-CALDESC:Events for Manchester Walks
REFRESH-INTERVAL;VALUE=DURATION:PT1H
X-Robots-Tag:noindex
X-PUBLISHED-TTL:PT1H
BEGIN:VTIMEZONE
TZID:UTC
BEGIN:STANDARD
TZOFFSETFROM:+0000
TZOFFSETTO:+0000
TZNAME:UTC
DTSTART:20240101T000000
END:STANDARD
END:VTIMEZONE
BEGIN:VEVENT
DTSTART;TZID=UTC:20251029T111500
DTEND;TZID=UTC:20251029T130000
DTSTAMP:20260422T171423
CREATED:20251026T195624Z
LAST-MODIFIED:20251026T195624Z
UID:26497-1761736500-1761742800@www.newmanchesterwalks.com
SUMMARY:Manchester & the Pre-Raphaelites (private tour)
DESCRIPTION:
URL:https://www.newmanchesterwalks.com/event/manchester-the-pre-raphaelites-private-tour/
END:VEVENT
END:VCALENDAR