BEGIN:VCALENDAR
VERSION:2.0
PRODID:-//Manchester Walks - ECPv6.15.11//NONSGML v1.0//EN
CALSCALE:GREGORIAN
METHOD:PUBLISH
X-ORIGINAL-URL:https://www.newmanchesterwalks.com
X-WR-CALDESC:Events for Manchester Walks
REFRESH-INTERVAL;VALUE=DURATION:PT1H
X-Robots-Tag:noindex
X-PUBLISHED-TTL:PT1H
BEGIN:VTIMEZONE
TZID:UTC
BEGIN:STANDARD
TZOFFSETFROM:+0000
TZOFFSETTO:+0000
TZNAME:UTC
DTSTART:20240101T000000
END:STANDARD
END:VTIMEZONE
BEGIN:VEVENT
DTSTART;TZID=UTC:20251203T110000
DTEND;TZID=UTC:20251203T130000
DTSTAMP:20260421T203616
CREATED:20251130T225402Z
LAST-MODIFIED:20251130T225402Z
UID:26528-1764759600-1764766800@www.newmanchesterwalks.com
SUMMARY:Marx & Engels: private student tour
DESCRIPTION:
URL:https://www.newmanchesterwalks.com/event/marx-engels-private-student-tour/
END:VEVENT
BEGIN:VEVENT
DTSTART;TZID=UTC:20251203T170000
DTEND;TZID=UTC:20251203T190000
DTSTAMP:20260421T203616
CREATED:20251130T225623Z
LAST-MODIFIED:20251130T225623Z
UID:26530-1764781200-1764788400@www.newmanchesterwalks.com
SUMMARY:Political Manchester: private student tour
DESCRIPTION:
URL:https://www.newmanchesterwalks.com/event/political-manchester-private-student-tour/
END:VEVENT
END:VCALENDAR