BEGIN:VCALENDAR
VERSION:2.0
PRODID:-//Manchester Walks - ECPv6.15.11//NONSGML v1.0//EN
CALSCALE:GREGORIAN
METHOD:PUBLISH
X-ORIGINAL-URL:https://www.newmanchesterwalks.com
X-WR-CALDESC:Events for Manchester Walks
REFRESH-INTERVAL;VALUE=DURATION:PT1H
X-Robots-Tag:noindex
X-PUBLISHED-TTL:PT1H
BEGIN:VTIMEZONE
TZID:UTC
BEGIN:STANDARD
TZOFFSETFROM:+0000
TZOFFSETTO:+0000
TZNAME:UTC
DTSTART:20250101T000000
END:STANDARD
END:VTIMEZONE
BEGIN:VEVENT
DTSTART;TZID=UTC:20260529T110000
DTEND;TZID=UTC:20260529T124500
DTSTAMP:20260422T220437
CREATED:20260208T215252Z
LAST-MODIFIED:20260421T142612Z
UID:26597-1780052400-1780058700@www.newmanchesterwalks.com
SUMMARY:Southern Cemetery
DESCRIPTION:Next tour: Friday 29 May 2026\, 11 a.m.\nMeet: Cemetery Gates (opposite James Hilton Memorials of 245 Barlow Moor Road).(Barlow Moor Road Metrolink stop\, 10 minutes walk away).\nPlease don’t go to: The Crematorium\, Nell Lane…\nBooking: Please press here to book with Eventbrite. \n*** \nNew Manchester Walks will take you around Southern Cemetery\, final resting place of some of the greats of Manchester history\, with Ed Glinert\, author of “London’s Dead” (published by HarperCollins). \nWe will see the graves and memories of Matt Busby\, John Rylands\, Joe Sunlight\, Daniel Adamson\, Tony Wilson and L. S. Lowry\, as we explore Britain’s second biggest cemetery.
URL:https://www.newmanchesterwalks.com/event/southern-cemetery/
LOCATION:Southern Cemtery\, 212 Barlow Moor Road\, Chorlton-cum-Hardy\, Manchester\, M21 7GL\, United Kingdom
END:VEVENT
BEGIN:VEVENT
DTSTART;TZID=UTC:20260604T180000
DTEND;TZID=UTC:20260604T194000
DTSTAMP:20260422T220437
CREATED:20260214T204932Z
LAST-MODIFIED:20260309T151914Z
UID:26618-1780596000-1780602000@www.newmanchesterwalks.com
SUMMARY:50th anniversary of the Pistols at the Lesser Free Trade Hall
DESCRIPTION:This tour: Thursday 4 June 2026\, 6pm.\n50th Anniversary of the Pistols at the Lesser Free Trade Hall\nMeet: Outside HOME\, 2 Tony Wilson Place.\nBooking: Please press here to book with Eventbrite.\n\nHere’s the set list\n* Tony Wilson’s pad.\n* The Boardwalk\, where Oasis made their debut.\n* The Hacienda.\n* Elbow’s “hole in my neighbourhood”.\n* The basement record shop where Morrissey had a job – yes! – for about five minutes\, resulting in a depression that inspired those great lines from “Heaven Knows I’m Miserable Now”.\n* The Ritz\, where the first Smiths gig took place.\n* The Hidden Gem church where Tony Wilson’s funeral took place.\n* The Free Trade Hall\, where this day in 1976 the Sex Pistols invented the modern Manchester music scene. \nWhat does it sound like?\nForget Memphis and Merseybeat\, Manchester is music city\, a venue to rank alongside New Orleans or Notting Hill\, a factory of superior song-making and stirring soundscapes courtesy of Joy Division\, the Fall\, New Order\, Buzzcocks\, Happy Mondays\, John Cooper Clarke\, the Stone Roses\, 808 State and\, of course\, the Smiths\, all spinning around the legend of the Hacienda\, the world’s hippest nightclub\, chicer than the Copacabana\, sexier than Studio 54\, cooler than the Cavern or Cream. \nAt the centre of the city’s beat was Factory Records\, a record label to rival Motown and Chess with a business model that could be compared only to British Leyland or the South Sea Bubble. But it’s not about Mammon or the man\, it’s about the music\, the songs\, and what songs! – “Dead Souls”\, “William\, It was Really Nothing”\, “Rowche Rumble”\, “Time Goes By So Slow” – the list\, like the road\, goes on forever. (Jon the Postman’s versions of “Louie Louie” certainly did). \n \n“Manchester\, so much to answer for\,” as the man sang. \n \n 
URL:https://www.newmanchesterwalks.com/event/50th-anniversary-of-the-pistols-at-the-lesser-free-trade-hall/
LOCATION:HOME\, 2 Tony Wilson Place\, Manchester\, Select a State:\, M15 4GU\, United Kingdom
ATTACH;FMTTYPE=image/jpeg:https://www.newmanchesterwalks.com/wp-content/uploads/2026/02/Sex_Pistols_June_4_1976-1.jpg
END:VEVENT
END:VCALENDAR